BEGIN:VCALENDAR
VERSION:2.0
PRODID:-//https://www.glocesteredc.org///NONSGML kigkonsult.se iCalcreator 2.10.15//
METHOD:PUBLISH
BEGIN:VEVENT
UID:20260423T134742UTC-2322z4dRXE@https://www.glocesteredc.org/
DTSTAMP:20260423T134742Z
DESCRIPTION:Rain Date - Saturday October 3\, 2026\nSTAY TUNED FOR MORE INFO
 RMATION!!\n  https://www.glocesteredc.org/events/event/36-trek-tunes
DTSTART:20260926T130000Z
DTEND:20260926T160000Z
LOCATION:Sprague Farm ()
SUMMARY:Trek & Tunes
URL:https://www.glocesteredc.org/events/event/36-trek-tunes
END:VEVENT
END:VCALENDAR
